BEGIN:VCALENDAR
VERSION:2.0
PRODID:-//ChurchDev//Events//EN
CALSCALE:GREGORIAN
METHOD:PUBLISH
BEGIN:VEVENT
UID:6160-20260423@www.ndf.church
SUMMARY:In His Presence!
DTSTART:20260423T224500Z
DTEND:20260423T234500Z
DESCRIPTION:A night of fellowship with one another and with our King!\\n\\nhttps://www.ndf.church/events/inhispresence-2-3-3/
LOCATION:670 Main Street\, Cairo\, NY 12413
URL:https://www.ndf.church/events/inhispresence-2-3-3/
DTSTAMP:20260419T213337Z
END:VEVENT
END:VCALENDAR
