BEGIN:VCALENDAR
VERSION:2.0
PRODID:-//ChurchDev//Events//EN
CALSCALE:GREGORIAN
METHOD:PUBLISH
BEGIN:VEVENT
UID:6161-20260402@www.ndf.church
SUMMARY:Mid-Week Study
DTSTART:20260402T230000Z
DTEND:20260403T000000Z
DESCRIPTION:Our mid-week study includes a time of worship and Biblical instruction on a wide range of contemporary topics.\\n\\nhttps://www.ndf.church/events/midweekservice-2-2-2-2-2-2-2-2-2-2-3-2-2-2-2-2-2-2-3-2-2-2/
LOCATION:670 Main Street\, Cairo\, NY 12413
URL:https://www.ndf.church/events/midweekservice-2-2-2-2-2-2-2-2-2-2-3-2-2-2-2-2-2-2-3-2-2-2/
DTSTAMP:20260419T213338Z
END:VEVENT
END:VCALENDAR
